BEGIN:VCALENDAR
VERSION:2.0
PRODID:-//wp-events-plugin.com//7.2.3.1//EN
BEGIN:VEVENT
UID:169@pressenwerk.com
DTSTART:20260516T210000Z
DTEND:20260516T210000Z
DTSTAMP:20260331T184503Z
URL:https://www.pressenwerk.com/events/90er-2000er-party
SUMMARY:90er 2000er Disko
DESCRIPTION:Die 90er und 2000er Jahre waren geprägt von MTV und VIVA. DJ L
 utscher bringt die Stars eurer Jugend zurück in den Club.
ATTACH;FMTTYPE=image/jpeg:https://www.pressenwerk.com/wordpress/wp-content
 /uploads/90er_160526-e1774980365350.png
END:VEVENT
END:VCALENDAR